BEGIN:VCALENDAR
VERSION:2.0
PRODID:-//Chorale les Chœurs du Château - ECPv5.12.2//NONSGML v1.0//EN
CALSCALE:GREGORIAN
METHOD:PUBLISH
X-WR-CALNAME:Chorale les Chœurs du Château
X-ORIGINAL-URL:https://choraleleschoeursduchateau.fr
X-WR-CALDESC:évènements pour Chorale les Chœurs du Château
BEGIN:VTIMEZONE
TZID:Europe/Paris
BEGIN:DAYLIGHT
TZOFFSETFROM:+0100
TZOFFSETTO:+0200
TZNAME:CEST
DTSTART:20220327T010000
END:DAYLIGHT
BEGIN:STANDARD
TZOFFSETFROM:+0200
TZOFFSETTO:+0100
TZNAME:CET
DTSTART:20221030T010000
END:STANDARD
END:VTIMEZONE
BEGIN:VEVENT
DTSTART;VALUE=DATE:20220614
DTEND;VALUE=DATE:20220615
DTSTAMP:20260421T103452
CREATED:20221006T152901Z
LAST-MODIFIED:20221006T152923Z
UID:2287-1655164800-1655251199@choraleleschoeursduchateau.fr
SUMMARY:Hommage à Gérald & Anne-Marie
DESCRIPTION:Église de Serres
URL:https://choraleleschoeursduchateau.fr/evenements/hommage-a-gerald-anne-marie/
END:VEVENT
END:VCALENDAR