BEGIN:VCALENDAR
VERSION:2.0
PRODID:-//Chorale les Chœurs du Château - ECPv5.12.2//NONSGML v1.0//EN
CALSCALE:GREGORIAN
METHOD:PUBLISH
X-WR-CALNAME:Chorale les Chœurs du Château
X-ORIGINAL-URL:https://choraleleschoeursduchateau.fr
X-WR-CALDESC:évènements pour Chorale les Chœurs du Château
BEGIN:VTIMEZONE
TZID:Europe/Paris
BEGIN:DAYLIGHT
TZOFFSETFROM:+0100
TZOFFSETTO:+0200
TZNAME:CEST
DTSTART:20220327T010000
END:DAYLIGHT
BEGIN:STANDARD
TZOFFSETFROM:+0200
TZOFFSETTO:+0100
TZNAME:CET
DTSTART:20221030T010000
END:STANDARD
END:VTIMEZONE
BEGIN:VEVENT
DTSTART;VALUE=DATE:20220910
DTEND;VALUE=DATE:20220911
DTSTAMP:20260421T115223
CREATED:20221006T153123Z
LAST-MODIFIED:20221006T153130Z
UID:2289-1662768000-1662854399@choraleleschoeursduchateau.fr
SUMMARY:Forum des Associations
DESCRIPTION:Tallard
URL:https://choraleleschoeursduchateau.fr/evenements/forum-des-associations/
END:VEVENT
END:VCALENDAR